BEGIN:VCALENDAR
VERSION:2.0
PRODID:-//Workforce Development Board - ECPv5.14.2.1//NONSGML v1.0//EN
CALSCALE:GREGORIAN
METHOD:PUBLISH
X-WR-CALNAME:Workforce Development Board
X-ORIGINAL-URL:https://frwdb.net
X-WR-CALDESC:Events for Workforce Development Board
BEGIN:VTIMEZONE
TZID:America/Los_Angeles
BEGIN:DAYLIGHT
TZOFFSETFROM:-0800
TZOFFSETTO:-0700
TZNAME:PDT
DTSTART:20200308T100000
END:DAYLIGHT
BEGIN:STANDARD
TZOFFSETFROM:-0700
TZOFFSETTO:-0800
TZNAME:PST
DTSTART:20201101T090000
END:STANDARD
END:VTIMEZONE
BEGIN:VEVENT
DTSTART;TZID=America/Los_Angeles:20201022T160000
DTEND;TZID=America/Los_Angeles:20201022T170000
DTSTAMP:20260422T193447
CREATED:20200123T002432Z
LAST-MODIFIED:20201020T223213Z
UID:4266-1603382400-1603386000@frwdb.net
SUMMARY:Adult Council
DESCRIPTION:10 22 20 Adult Council Packet \n  \nJoin Zoom Meeting \nhttps://us02web.zoom.us/j/85048345720 \nMeeting ID: 850 4834 5720 \nJoin by phone:  1-408-638-0968
URL:https://frwdb.net/event/adult-council-16/
LOCATION:Via Teleconference\, United States
CATEGORIES:adult_council
GEO:36.7342227;-119.7876274
END:VEVENT
END:VCALENDAR