BEGIN:VCALENDAR
VERSION:2.0
PRODID:-//Workforce Development Board - ECPv5.14.2.1//NONSGML v1.0//EN
CALSCALE:GREGORIAN
METHOD:PUBLISH
X-WR-CALNAME:Workforce Development Board
X-ORIGINAL-URL:https://frwdb.net
X-WR-CALDESC:Events for Workforce Development Board
BEGIN:VTIMEZONE
TZID:America/Los_Angeles
BEGIN:DAYLIGHT
TZOFFSETFROM:-0800
TZOFFSETTO:-0700
TZNAME:PDT
DTSTART:20200308T100000
END:DAYLIGHT
BEGIN:STANDARD
TZOFFSETFROM:-0700
TZOFFSETTO:-0800
TZNAME:PST
DTSTART:20201101T090000
END:STANDARD
END:VTIMEZONE
BEGIN:VEVENT
DTSTART;TZID=America/Los_Angeles:20201120T103000
DTEND;TZID=America/Los_Angeles:20201120T120000
DTSTAMP:20260422T114133
CREATED:20200820T184321Z
LAST-MODIFIED:20200820T184323Z
UID:4963-1605868200-1605873600@frwdb.net
SUMMARY:AJCC Partners Meeting
DESCRIPTION:
URL:https://frwdb.net/event/ajcc-partners-meeting-7/
CATEGORIES:AJCC System Calendar
END:VEVENT
END:VCALENDAR