BEGIN:VCALENDAR
VERSION:2.0
PRODID:-//Workforce Development Board - ECPv5.14.2.1//NONSGML v1.0//EN
CALSCALE:GREGORIAN
METHOD:PUBLISH
X-WR-CALNAME:Workforce Development Board
X-ORIGINAL-URL:https://frwdb.net
X-WR-CALDESC:Events for Workforce Development Board
BEGIN:VTIMEZONE
TZID:America/Los_Angeles
BEGIN:DAYLIGHT
TZOFFSETFROM:-0800
TZOFFSETTO:-0700
TZNAME:PDT
DTSTART:20210314T100000
END:DAYLIGHT
BEGIN:STANDARD
TZOFFSETFROM:-0700
TZOFFSETTO:-0800
TZNAME:PST
DTSTART:20211107T090000
END:STANDARD
END:VTIMEZONE
BEGIN:VEVENT
DTSTART;TZID=America/Los_Angeles:20211201T153000
DTEND;TZID=America/Los_Angeles:20211201T160000
DTSTAMP:20260423T230835
CREATED:20211119T184538Z
LAST-MODIFIED:20211119T184714Z
UID:6028-1638372600-1638374400@frwdb.net
SUMMARY:Special FAWIC Board of Directors Meeting
DESCRIPTION:12 1 21 FAWIC Packet \nThis will be a hybrid meeting with participation available in person and via Zoom. \nJoin Zoom Meeting \nhttps://us02web.zoom.us/j/81742678706?pwd=OWRXR1ZDSys5WUVMRHV5TXBQRDJHZz09 \nMeeting ID: 817 4267 8706\nPasscode: 361358\nOr join by phone:  1 669 900 6833
URL:https://frwdb.net/event/december-special-fawic-board-of-directors-meeting/
LOCATION:Fresno County Council of Governments\, 2035 Tulare St.\, 2nd Floor\, Fresno\, CA\, 93721\, United States
CATEGORIES:fawic_board
ORGANIZER;CN="Marle%20Workmon":MAILTO:mworkmon@workforce-connection.com
GEO:36.734652;-119.7896517
X-APPLE-STRUCTURED-LOCATION;VALUE=URI;X-ADDRESS=Fresno County Council of Governments 2035 Tulare St. 2nd Floor Fresno CA 93721 United States;X-APPLE-RADIUS=500;X-TITLE=2035 Tulare St.\, 2nd Floor:geo:-119.7896517,36.734652
END:VEVENT
END:VCALENDAR