BEGIN:VCALENDAR
VERSION:2.0
PRODID:-//Workforce Development Board - ECPv5.14.2.1//NONSGML v1.0//EN
CALSCALE:GREGORIAN
METHOD:PUBLISH
X-WR-CALNAME:Workforce Development Board
X-ORIGINAL-URL:https://frwdb.net
X-WR-CALDESC:Events for Workforce Development Board
BEGIN:VTIMEZONE
TZID:America/Los_Angeles
BEGIN:DAYLIGHT
TZOFFSETFROM:-0800
TZOFFSETTO:-0700
TZNAME:PDT
DTSTART:20220313T100000
END:DAYLIGHT
BEGIN:STANDARD
TZOFFSETFROM:-0700
TZOFFSETTO:-0800
TZNAME:PST
DTSTART:20221106T090000
END:STANDARD
END:VTIMEZONE
BEGIN:VEVENT
DTSTART;TZID=America/Los_Angeles:20220420T150000
DTEND;TZID=America/Los_Angeles:20220420T160000
DTSTAMP:20260423T230659
CREATED:20220107T232024Z
LAST-MODIFIED:20220420T212937Z
UID:6089-1650466800-1650470400@frwdb.net
SUMMARY:Executive Committee Meeting
DESCRIPTION:4 20 22 Exec Packet
URL:https://frwdb.net/event/executive-committee-meeting-16/
LOCATION:Hotel Virginia\, 2125 Kern Street\, #207\, Fresno\, CA\, 93721\, United States
CATEGORIES:executive_committee
ORGANIZER;CN="Marle%20Workmon":MAILTO:mworkmon@workforce-connection.com
END:VEVENT
END:VCALENDAR