BEGIN:VCALENDAR
VERSION:2.0
PRODID:-//Workforce Development Board - ECPv5.14.2.1//NONSGML v1.0//EN
CALSCALE:GREGORIAN
METHOD:PUBLISH
X-WR-CALNAME:Workforce Development Board
X-ORIGINAL-URL:https://frwdb.net
X-WR-CALDESC:Events for Workforce Development Board
BEGIN:VTIMEZONE
TZID:America/Los_Angeles
BEGIN:DAYLIGHT
TZOFFSETFROM:-0800
TZOFFSETTO:-0700
TZNAME:PDT
DTSTART:20220313T100000
END:DAYLIGHT
BEGIN:STANDARD
TZOFFSETFROM:-0700
TZOFFSETTO:-0800
TZNAME:PST
DTSTART:20221106T090000
END:STANDARD
END:VTIMEZONE
BEGIN:VEVENT
DTSTART;TZID=America/Los_Angeles:20220720T150000
DTEND;TZID=America/Los_Angeles:20220720T160000
DTSTAMP:20260423T165245
CREATED:20220107T232902Z
LAST-MODIFIED:20220712T230605Z
UID:6105-1658329200-1658332800@frwdb.net
SUMMARY:FAWIC Board of Directors Meeting
DESCRIPTION:7 20 22 FAWIC Packet
URL:https://frwdb.net/event/fawic-board-of-directors-meeting-12/
LOCATION:Hotel Virginia\, 2125 Kern Street\, #207\, Fresno\, CA\, 93721\, United States
CATEGORIES:fawic_board
ORGANIZER;CN="Marle%20Workmon":MAILTO:mworkmon@workforce-connection.com
END:VEVENT
END:VCALENDAR