BEGIN:VCALENDAR
VERSION:2.0
PRODID:-//Workforce Development Board - ECPv5.14.2.1//NONSGML v1.0//EN
CALSCALE:GREGORIAN
METHOD:PUBLISH
X-WR-CALNAME:Workforce Development Board
X-ORIGINAL-URL:https://frwdb.net
X-WR-CALDESC:Events for Workforce Development Board
BEGIN:VTIMEZONE
TZID:America/Los_Angeles
BEGIN:DAYLIGHT
TZOFFSETFROM:-0800
TZOFFSETTO:-0700
TZNAME:PDT
DTSTART:20210314T100000
END:DAYLIGHT
BEGIN:STANDARD
TZOFFSETFROM:-0700
TZOFFSETTO:-0800
TZNAME:PST
DTSTART:20211107T090000
END:STANDARD
END:VTIMEZONE
BEGIN:VEVENT
DTSTART;TZID=America/Los_Angeles:20211201T160000
DTEND;TZID=America/Los_Angeles:20211201T170000
DTSTAMP:20260424T003434
CREATED:20201105T194602Z
LAST-MODIFIED:20211214T155620Z
UID:5133-1638374400-1638378000@frwdb.net
SUMMARY:FRWDB Meeting
DESCRIPTION:12 01 21 FRWDB Packet \n  \nThis will be a hybrid meeting with participation available in-person and via Zoom. \nJoin Zoom Meeting \nhttps://us02web.zoom.us/j/88511425755?pwd=NWhnWVBxZnUrY1RVNm9XQk1GZ2NXQT09 \nMeeting ID: 885 1142 5755\nPasscode: 028734\nOr join by phone:  1 669 900 6833
URL:https://frwdb.net/event/frwdb-meeting-11/
LOCATION:Fresno County Council of Governments\, 2035 Tulare St.\, 2nd Floor\, Fresno\, CA\, 93721\, United States
CATEGORIES:workforce_development_board
ORGANIZER;CN="Marle%20Workmon":MAILTO:mworkmon@workforce-connection.com
GEO:36.734652;-119.7896517
X-APPLE-STRUCTURED-LOCATION;VALUE=URI;X-ADDRESS=Fresno County Council of Governments 2035 Tulare St. 2nd Floor Fresno CA 93721 United States;X-APPLE-RADIUS=500;X-TITLE=2035 Tulare St.\, 2nd Floor:geo:-119.7896517,36.734652
END:VEVENT
END:VCALENDAR