BEGIN:VCALENDAR
VERSION:2.0
PRODID:-//Workforce Development Board - ECPv5.14.2.1//NONSGML v1.0//EN
CALSCALE:GREGORIAN
METHOD:PUBLISH
X-WR-CALNAME:Workforce Development Board
X-ORIGINAL-URL:https://frwdb.net
X-WR-CALDESC:Events for Workforce Development Board
BEGIN:VTIMEZONE
TZID:America/Los_Angeles
BEGIN:DAYLIGHT
TZOFFSETFROM:-0800
TZOFFSETTO:-0700
TZNAME:PDT
DTSTART:20200308T100000
END:DAYLIGHT
BEGIN:STANDARD
TZOFFSETFROM:-0700
TZOFFSETTO:-0800
TZNAME:PST
DTSTART:20201101T090000
END:STANDARD
END:VTIMEZONE
BEGIN:VEVENT
DTSTART;TZID=America/Los_Angeles:20200304T160000
DTEND;TZID=America/Los_Angeles:20200304T170000
DTSTAMP:20260421T154336
CREATED:20191212T170851Z
LAST-MODIFIED:20200225T230630Z
UID:4125-1583337600-1583341200@frwdb.net
SUMMARY:FRWDB Meeting
DESCRIPTION:3 04 20 FRWDB Packet
URL:https://frwdb.net/event/frwdb-meeting-8/
LOCATION:Fresno County Council of Governments\, 2035 Tulare St.\, 2nd Floor\, Fresno\, CA\, 93721\, United States
CATEGORIES:workforce_development_board
ORGANIZER;CN="Marle%20Workmon":MAILTO:mworkmon@workforce-connection.com
GEO:36.734652;-119.7896517
X-APPLE-STRUCTURED-LOCATION;VALUE=URI;X-ADDRESS=Fresno County Council of Governments 2035 Tulare St. 2nd Floor Fresno CA 93721 United States;X-APPLE-RADIUS=500;X-TITLE=2035 Tulare St.\, 2nd Floor:geo:-119.7896517,36.734652
END:VEVENT
END:VCALENDAR